BEGIN:VCALENDAR
VERSION:2.0
PRODID:-//Our Lady of Peace Catholic Parish - ECPv6.15.20//NONSGML v1.0//EN
CALSCALE:GREGORIAN
METHOD:PUBLISH
X-WR-CALNAME:Our Lady of Peace Catholic Parish
X-ORIGINAL-URL:https://olopdarien.org
X-WR-CALDESC:Events for Our Lady of Peace Catholic Parish
REFRESH-INTERVAL;VALUE=DURATION:PT1H
X-Robots-Tag:noindex
X-PUBLISHED-TTL:PT1H
BEGIN:VTIMEZONE
TZID:America/Chicago
BEGIN:DAYLIGHT
TZOFFSETFROM:-0600
TZOFFSETTO:-0500
TZNAME:CDT
DTSTART:20250309T080000
END:DAYLIGHT
BEGIN:STANDARD
TZOFFSETFROM:-0500
TZOFFSETTO:-0600
TZNAME:CST
DTSTART:20251102T070000
END:STANDARD
BEGIN:DAYLIGHT
TZOFFSETFROM:-0600
TZOFFSETTO:-0500
TZNAME:CDT
DTSTART:20260308T080000
END:DAYLIGHT
BEGIN:STANDARD
TZOFFSETFROM:-0500
TZOFFSETTO:-0600
TZNAME:CST
DTSTART:20261101T070000
END:STANDARD
BEGIN:DAYLIGHT
TZOFFSETFROM:-0600
TZOFFSETTO:-0500
TZNAME:CDT
DTSTART:20270314T080000
END:DAYLIGHT
BEGIN:STANDARD
TZOFFSETFROM:-0500
TZOFFSETTO:-0600
TZNAME:CST
DTSTART:20271107T070000
END:STANDARD
END:VTIMEZONE
BEGIN:VEVENT
DTSTART;TZID=America/Chicago:20260506T070000
DTEND;TZID=America/Chicago:20260506T100000
DTSTAMP:20260421T000253
CREATED:20250925T185236Z
LAST-MODIFIED:20260420T100831Z
UID:28855-1778050800-1778061600@olopdarien.org
SUMMARY:Food Pantry
DESCRIPTION:
URL:https://olopdarien.org/event/food-pantry-194/
END:VEVENT
BEGIN:VEVENT
DTSTART;TZID=America/Chicago:20260506T083000
DTEND;TZID=America/Chicago:20260506T190000
DTSTAMP:20260421T000253
CREATED:20250206T040921Z
LAST-MODIFIED:20260420T100831Z
UID:27387-1778056200-1778094000@olopdarien.org
SUMMARY:Eucharistic Adoration
DESCRIPTION:
URL:https://olopdarien.org/event/eucharistic-adoration-271/
LOCATION:Church\, 701 Plainfield Rd\, Darien\, 60561\, United States
END:VEVENT
BEGIN:VEVENT
DTSTART;TZID=America/Chicago:20260506T183000
DTEND;TZID=America/Chicago:20260506T200000
DTSTAMP:20260421T000253
CREATED:20250206T040921Z
LAST-MODIFIED:20260420T100831Z
UID:27386-1778092200-1778097600@olopdarien.org
SUMMARY:Mother Theresa Prayer Group
DESCRIPTION:
URL:https://olopdarien.org/event/mother-theresa-prayer-group-150/
LOCATION:Church\, 701 Plainfield Rd\, Darien\, 60561\, United States
END:VEVENT
END:VCALENDAR