BEGIN:VCALENDAR
VERSION:2.0
PRODID:-//Our Lady of Peace Catholic Parish - ECPv6.15.20//NONSGML v1.0//EN
CALSCALE:GREGORIAN
METHOD:PUBLISH
X-ORIGINAL-URL:https://olopdarien.org
X-WR-CALDESC:Events for Our Lady of Peace Catholic Parish
REFRESH-INTERVAL;VALUE=DURATION:PT1H
X-Robots-Tag:noindex
X-PUBLISHED-TTL:PT1H
BEGIN:VTIMEZONE
TZID:America/Chicago
BEGIN:DAYLIGHT
TZOFFSETFROM:-0600
TZOFFSETTO:-0500
TZNAME:CDT
DTSTART:20250309T080000
END:DAYLIGHT
BEGIN:STANDARD
TZOFFSETFROM:-0500
TZOFFSETTO:-0600
TZNAME:CST
DTSTART:20251102T070000
END:STANDARD
BEGIN:DAYLIGHT
TZOFFSETFROM:-0600
TZOFFSETTO:-0500
TZNAME:CDT
DTSTART:20260308T080000
END:DAYLIGHT
BEGIN:STANDARD
TZOFFSETFROM:-0500
TZOFFSETTO:-0600
TZNAME:CST
DTSTART:20261101T070000
END:STANDARD
BEGIN:DAYLIGHT
TZOFFSETFROM:-0600
TZOFFSETTO:-0500
TZNAME:CDT
DTSTART:20270314T080000
END:DAYLIGHT
BEGIN:STANDARD
TZOFFSETFROM:-0500
TZOFFSETTO:-0600
TZNAME:CST
DTSTART:20271107T070000
END:STANDARD
END:VTIMEZONE
BEGIN:VEVENT
DTSTART;TZID=America/Chicago:20260603T070000
DTEND;TZID=America/Chicago:20260603T100000
DTSTAMP:20260421T000544
CREATED:20250925T185238Z
LAST-MODIFIED:20260420T100832Z
UID:28859-1780470000-1780480800@olopdarien.org
SUMMARY:Food Pantry
DESCRIPTION:
URL:https://olopdarien.org/event/food-pantry-198/
END:VEVENT
BEGIN:VEVENT
DTSTART;TZID=America/Chicago:20260603T083000
DTEND;TZID=America/Chicago:20260603T190000
DTSTAMP:20260421T000544
CREATED:20250403T143916Z
LAST-MODIFIED:20260420T100833Z
UID:27819-1780475400-1780513200@olopdarien.org
SUMMARY:Eucharistic Adoration
DESCRIPTION:
URL:https://olopdarien.org/event/eucharistic-adoration-279/
LOCATION:Church\, 701 Plainfield Rd\, Darien\, 60561\, United States
END:VEVENT
BEGIN:VEVENT
DTSTART;TZID=America/Chicago:20260603T183000
DTEND;TZID=America/Chicago:20260603T200000
DTSTAMP:20260421T000544
CREATED:20250404T143931Z
LAST-MODIFIED:20260420T100833Z
UID:27826-1780511400-1780516800@olopdarien.org
SUMMARY:Mother Theresa Prayer Group
DESCRIPTION:
URL:https://olopdarien.org/event/mother-theresa-prayer-group-154/
LOCATION:Church\, 701 Plainfield Rd\, Darien\, 60561\, United States
END:VEVENT
END:VCALENDAR