BEGIN:VCALENDAR
VERSION:2.0
PRODID:-//Our Lady of Peace Catholic Parish - ECPv6.15.20//NONSGML v1.0//EN
CALSCALE:GREGORIAN
METHOD:PUBLISH
X-WR-CALNAME:Our Lady of Peace Catholic Parish
X-ORIGINAL-URL:https://olopdarien.org
X-WR-CALDESC:Events for Our Lady of Peace Catholic Parish
REFRESH-INTERVAL;VALUE=DURATION:PT1H
X-Robots-Tag:noindex
X-PUBLISHED-TTL:PT1H
BEGIN:VTIMEZONE
TZID:America/Chicago
BEGIN:DAYLIGHT
TZOFFSETFROM:-0600
TZOFFSETTO:-0500
TZNAME:CDT
DTSTART:20250309T080000
END:DAYLIGHT
BEGIN:STANDARD
TZOFFSETFROM:-0500
TZOFFSETTO:-0600
TZNAME:CST
DTSTART:20251102T070000
END:STANDARD
BEGIN:DAYLIGHT
TZOFFSETFROM:-0600
TZOFFSETTO:-0500
TZNAME:CDT
DTSTART:20260308T080000
END:DAYLIGHT
BEGIN:STANDARD
TZOFFSETFROM:-0500
TZOFFSETTO:-0600
TZNAME:CST
DTSTART:20261101T070000
END:STANDARD
BEGIN:DAYLIGHT
TZOFFSETFROM:-0600
TZOFFSETTO:-0500
TZNAME:CDT
DTSTART:20270314T080000
END:DAYLIGHT
BEGIN:STANDARD
TZOFFSETFROM:-0500
TZOFFSETTO:-0600
TZNAME:CST
DTSTART:20271107T070000
END:STANDARD
END:VTIMEZONE
BEGIN:VEVENT
DTSTART;TZID=America/Chicago:20260819T070000
DTEND;TZID=America/Chicago:20260819T100000
DTSTAMP:20260421T233805
CREATED:20250925T185244Z
LAST-MODIFIED:20260421T100846Z
UID:28870-1787122800-1787133600@olopdarien.org
SUMMARY:Food Pantry
DESCRIPTION:
URL:https://olopdarien.org/event/food-pantry-209/
END:VEVENT
BEGIN:VEVENT
DTSTART;TZID=America/Chicago:20260819T083000
DTEND;TZID=America/Chicago:20260819T190000
DTSTAMP:20260421T233805
CREATED:20250515T205323Z
LAST-MODIFIED:20260421T100835Z
UID:28041-1787128200-1787166000@olopdarien.org
SUMMARY:Eucharistic Adoration
DESCRIPTION:
URL:https://olopdarien.org/event/eucharistic-adoration-301/
LOCATION:Church\, 701 Plainfield Rd\, Darien\, 60561\, United States
END:VEVENT
BEGIN:VEVENT
DTSTART;TZID=America/Chicago:20260819T183000
DTEND;TZID=America/Chicago:20260819T200000
DTSTAMP:20260421T233805
CREATED:20250515T205322Z
LAST-MODIFIED:20260421T100846Z
UID:28040-1787164200-1787169600@olopdarien.org
SUMMARY:Mother Theresa Prayer Group
DESCRIPTION:
URL:https://olopdarien.org/event/mother-theresa-prayer-group-165/
LOCATION:Church\, 701 Plainfield Rd\, Darien\, 60561\, United States
END:VEVENT
END:VCALENDAR