BEGIN:VCALENDAR
VERSION:2.0
PRODID:-//Our Lady of Peace Catholic Parish - ECPv6.15.20//NONSGML v1.0//EN
CALSCALE:GREGORIAN
METHOD:PUBLISH
X-ORIGINAL-URL:https://olopdarien.org
X-WR-CALDESC:Events for Our Lady of Peace Catholic Parish
REFRESH-INTERVAL;VALUE=DURATION:PT1H
X-Robots-Tag:noindex
X-PUBLISHED-TTL:PT1H
BEGIN:VTIMEZONE
TZID:America/Chicago
BEGIN:DAYLIGHT
TZOFFSETFROM:-0600
TZOFFSETTO:-0500
TZNAME:CDT
DTSTART:20250309T080000
END:DAYLIGHT
BEGIN:STANDARD
TZOFFSETFROM:-0500
TZOFFSETTO:-0600
TZNAME:CST
DTSTART:20251102T070000
END:STANDARD
BEGIN:DAYLIGHT
TZOFFSETFROM:-0600
TZOFFSETTO:-0500
TZNAME:CDT
DTSTART:20260308T080000
END:DAYLIGHT
BEGIN:STANDARD
TZOFFSETFROM:-0500
TZOFFSETTO:-0600
TZNAME:CST
DTSTART:20261101T070000
END:STANDARD
BEGIN:DAYLIGHT
TZOFFSETFROM:-0600
TZOFFSETTO:-0500
TZNAME:CDT
DTSTART:20270314T080000
END:DAYLIGHT
BEGIN:STANDARD
TZOFFSETFROM:-0500
TZOFFSETTO:-0600
TZNAME:CST
DTSTART:20271107T070000
END:STANDARD
END:VTIMEZONE
BEGIN:VEVENT
DTSTART;TZID=America/Chicago:20261014T070000
DTEND;TZID=America/Chicago:20261014T100000
DTSTAMP:20260422T015815
CREATED:20251022T223845Z
LAST-MODIFIED:20260421T100839Z
UID:29093-1791961200-1791972000@olopdarien.org
SUMMARY:Food Pantry
DESCRIPTION:
URL:https://olopdarien.org/event/food-pantry-217/
END:VEVENT
BEGIN:VEVENT
DTSTART;TZID=America/Chicago:20261014T083000
DTEND;TZID=America/Chicago:20261014T190000
DTSTAMP:20260422T015815
CREATED:20250613T000649Z
LAST-MODIFIED:20260421T100839Z
UID:28206-1791966600-1792004400@olopdarien.org
SUMMARY:Eucharistic Adoration
DESCRIPTION:
URL:https://olopdarien.org/event/eucharistic-adoration-317/
LOCATION:Church\, 701 Plainfield Rd\, Darien\, 60561\, United States
END:VEVENT
BEGIN:VEVENT
DTSTART;TZID=America/Chicago:20261014T183000
DTEND;TZID=America/Chicago:20261014T200000
DTSTAMP:20260422T015815
CREATED:20250612T000853Z
LAST-MODIFIED:20260421T100839Z
UID:28194-1792002600-1792008000@olopdarien.org
SUMMARY:Mother Theresa Prayer Group
DESCRIPTION:
URL:https://olopdarien.org/event/mother-theresa-prayer-group-173/
LOCATION:Church\, 701 Plainfield Rd\, Darien\, 60561\, United States
END:VEVENT
END:VCALENDAR