BEGIN:VCALENDAR
VERSION:2.0
PRODID:-//Our Lady of Peace Catholic Parish - ECPv6.15.20//NONSGML v1.0//EN
CALSCALE:GREGORIAN
METHOD:PUBLISH
X-WR-CALNAME:Our Lady of Peace Catholic Parish
X-ORIGINAL-URL:https://olopdarien.org
X-WR-CALDESC:Events for Our Lady of Peace Catholic Parish
REFRESH-INTERVAL;VALUE=DURATION:PT1H
X-Robots-Tag:noindex
X-PUBLISHED-TTL:PT1H
BEGIN:VTIMEZONE
TZID:America/Chicago
BEGIN:DAYLIGHT
TZOFFSETFROM:-0600
TZOFFSETTO:-0500
TZNAME:CDT
DTSTART:20260308T080000
END:DAYLIGHT
BEGIN:STANDARD
TZOFFSETFROM:-0500
TZOFFSETTO:-0600
TZNAME:CST
DTSTART:20261101T070000
END:STANDARD
BEGIN:DAYLIGHT
TZOFFSETFROM:-0600
TZOFFSETTO:-0500
TZNAME:CDT
DTSTART:20270314T080000
END:DAYLIGHT
BEGIN:STANDARD
TZOFFSETFROM:-0500
TZOFFSETTO:-0600
TZNAME:CST
DTSTART:20271107T070000
END:STANDARD
BEGIN:DAYLIGHT
TZOFFSETFROM:-0600
TZOFFSETTO:-0500
TZNAME:CDT
DTSTART:20280312T080000
END:DAYLIGHT
BEGIN:STANDARD
TZOFFSETFROM:-0500
TZOFFSETTO:-0600
TZNAME:CST
DTSTART:20281105T070000
END:STANDARD
END:VTIMEZONE
BEGIN:VEVENT
DTSTART;TZID=America/Chicago:20270324T070000
DTEND;TZID=America/Chicago:20270324T100000
DTSTAMP:20260422T083425
CREATED:20260115T213904Z
LAST-MODIFIED:20260422T102252Z
UID:29518-1805871600-1805882400@olopdarien.org
SUMMARY:Food Pantry
DESCRIPTION:
URL:https://olopdarien.org/event/food-pantry-240/
END:VEVENT
BEGIN:VEVENT
DTSTART;TZID=America/Chicago:20270324T083000
DTEND;TZID=America/Chicago:20270324T190000
DTSTAMP:20260422T083425
CREATED:20260115T213905Z
LAST-MODIFIED:20260422T102252Z
UID:29519-1805877000-1805914800@olopdarien.org
SUMMARY:Eucharistic Adoration
DESCRIPTION:
URL:https://olopdarien.org/event/eucharistic-adoration-363/
LOCATION:Church\, 701 Plainfield Rd\, Darien\, 60561\, United States
END:VEVENT
BEGIN:VEVENT
DTSTART;TZID=America/Chicago:20270324T183000
DTEND;TZID=America/Chicago:20270324T200000
DTSTAMP:20260422T083425
CREATED:20260115T213905Z
LAST-MODIFIED:20260422T102252Z
UID:29520-1805913000-1805918400@olopdarien.org
SUMMARY:Mother Theresa Prayer Group
DESCRIPTION:
URL:https://olopdarien.org/event/mother-theresa-prayer-group-196/
LOCATION:Church\, 701 Plainfield Rd\, Darien\, 60561\, United States
END:VEVENT
END:VCALENDAR